BEGIN:VCALENDAR
VERSION:2.0
PRODID:-//wp-events-plugin.com//7.2.3.1//EN
TZID:Europe/Berlin
X-WR-TIMEZONE:Europe/Berlin
BEGIN:VEVENT
UID:55@adventgemeinde-einoed.de
DTSTART;TZID=Europe/Berlin:20161030T150000
DTEND;TZID=Europe/Berlin:20161030T170000
DTSTAMP:20161016T144643Z
URL:https://www.adventgemeinde-einoed.de/events/begegnungstag-30-10-2016/
SUMMARY:Begegnungstag 30.10.2016
DESCRIPTION:Lernen Sie uns kennen\, bei Kaffee und Kuchen\, einem Impulsref
 erat zum Thema "Freisein ist mehr" und der Möglichkeit zu Gesprächen. Si
 e erhalten auch Informationen über die Angebote des HopeChannel\, des Deu
 tschen Vereins für Gesundheitspflege und der Aktion "Kinder helfen Kinder
 n" der Hilfsorganisation ADRA.
LOCATION:Adventgemeinde Einöd\, Brühlstr. 6\, Homburg-Einöd\, Saarland\,
  66424\, Deutschland
GEO:49.26219;7.33131000000003
X-APPLE-STRUCTURED-LOCATION;VALUE=URI;X-ADDRESS=Brühlstr. 6\, Homburg-Ein
 öd\, Saarland\, 66424\, Deutschland;X-APPLE-RADIUS=100;X-TITLE=Adventgeme
 inde Einöd:geo:49.26219,7.33131000000003
END:VEVENT
BEGIN:VTIMEZONE
TZID:Europe/Berlin
X-LIC-LOCATION:Europe/Berlin
BEGIN:STANDARD
DTSTART:20161030T020000
TZOFFSETFROM:+0200
TZOFFSETTO:+0100
TZNAME:CET
END:STANDARD
END:VTIMEZONE
END:VCALENDAR