BEGIN:VCALENDAR
VERSION:2.0
PRODID:-//wp-events-plugin.com//7.2.3.1//EN
TZID:Europe/Berlin
X-WR-TIMEZONE:Europe/Berlin
BEGIN:VEVENT
UID:944@adventgemeinde-einoed.de
DTSTART;TZID=Europe/Berlin:20260707T180000
DTEND;TZID=Europe/Berlin:20260707T200000
DTSTAMP:20250119T182630Z
URL:https://www.adventgemeinde-einoed.de/events/gemeinderat-2026-07-07/
SUMMARY:Gemeinderat
DESCRIPTION:An jedem ersten Dienstag im Monat trifft sich der Gemeinderat\,
  um unsere akuten Blänge zu diskutieren und zu entscheiden. Beiträge und
  Wünsche dürfen jederzeit den Mitgliedern des Gemeinderats anvertraut we
 rden.
CATEGORIES:Gemeinderat
LOCATION:Adventgemeinde Einöd\, Brühlstr. 6\, Homburg-Einöd\, Saarland\,
  66424\, Deutschland
GEO:49.26219;7.33131000000003
X-APPLE-STRUCTURED-LOCATION;VALUE=URI;X-ADDRESS=Brühlstr. 6\, Homburg-Ein
 öd\, Saarland\, 66424\, Deutschland;X-APPLE-RADIUS=100;X-TITLE=Adventgeme
 inde Einöd:geo:49.26219,7.33131000000003
END:VEVENT
BEGIN:VTIMEZONE
TZID:Europe/Berlin
X-LIC-LOCATION:Europe/Berlin
BEGIN:DAYLIGHT
DTSTART:20260329T030000
TZOFFSETFROM:+0100
TZOFFSETTO:+0200
TZNAME:CEST
END:DAYLIGHT
END:VTIMEZONE
END:VCALENDAR