BEGIN:VCALENDAR
VERSION:2.0
PRODID:-//wp-events-plugin.com//7.2.3.1//EN
TZID:Europe/Berlin
X-WR-TIMEZONE:Europe/Berlin
BEGIN:VEVENT
UID:365@adventgemeinde-einoed.de
DTSTART;TZID=Europe/Berlin:20200905T103000
DTEND;TZID=Europe/Berlin:20200905T120000
DTSTAMP:20200902T092000Z
URL:https://www.adventgemeinde-einoed.de/events/gottesdienst-5-2020-09-05/
SUMMARY:Waldgottesdienst Grohbachtal
DESCRIPTION:Wir nutzen die letzten schönen Spätsommertage\, um an der fri
 schen Luft gemeinsam Gottesdienst feiern zu können. Die Zusammenkunft im 
 Freien erlaubt uns\, mehr Teilnehmer zulassen zu können\, da wir mehr Pla
 tz zum Abstand halten haben.\n\nWir treffen uns an der Waldschenke in Bier
 bach im Grohbachtal.
CATEGORIES:Gottesdienst
LOCATION:Waldschenke Bierbach\, Waldschenke Bierbach\, Bierbach\, 66440\, D
 eutschland
GEO:49.272545;7.276147
X-APPLE-STRUCTURED-LOCATION;VALUE=URI;X-ADDRESS=Waldschenke Bierbach\, Bier
 bach\, 66440\, Deutschland;X-APPLE-RADIUS=100;X-TITLE=Waldschenke Bierbach
 :geo:49.272545,7.276147
END:VEVENT
BEGIN:VTIMEZONE
TZID:Europe/Berlin
X-LIC-LOCATION:Europe/Berlin
BEGIN:DAYLIGHT
DTSTART:20200329T030000
TZOFFSETFROM:+0100
TZOFFSETTO:+0200
TZNAME:CEST
END:DAYLIGHT
END:VTIMEZONE
END:VCALENDAR