BEGIN:VCALENDAR
VERSION:2.0
PRODID:-//Freikirche der Siebenten-Tags-Adventisten Einöd - ECPv6.8.1//NONSGML v1.0//EN
CALSCALE:GREGORIAN
METHOD:PUBLISH
X-ORIGINAL-URL:https://www.adventgemeinde-einoed.de
X-WR-CALDESC:Veranstaltungen für Freikirche der Siebenten-Tags-Adventisten Einöd
REFRESH-INTERVAL;VALUE=DURATION:PT1H
X-Robots-Tag:noindex
X-PUBLISHED-TTL:PT1H
BEGIN:VTIMEZONE
TZID:Europe/Berlin
BEGIN:DAYLIGHT
TZOFFSETFROM:+0100
TZOFFSETTO:+0200
TZNAME:CEST
DTSTART:20250330T010000
END:DAYLIGHT
BEGIN:STANDARD
TZOFFSETFROM:+0200
TZOFFSETTO:+0100
TZNAME:CET
DTSTART:20251026T010000
END:STANDARD
END:VTIMEZONE
BEGIN:VEVENT
DTSTART;TZID=Europe/Berlin:20250111T150000
DTEND;TZID=Europe/Berlin:20250111T170000
DTSTAMP:20260424T122655
CREATED:20250119T152052Z
LAST-MODIFIED:20250119T152052Z
UID:9346-1736607600-1736614800@www.adventgemeinde-einoed.de
SUMMARY:Kaffee und mehr ...
DESCRIPTION:
URL:https://www.adventgemeinde-einoed.de/event/kaffee-und-mehr/
LOCATION:Kaffee und mehr …\, Brühlstraße 6\, Einöd\, Saarland\, 66424
END:VEVENT
END:VCALENDAR