BEGIN:VCALENDAR
VERSION:2.0
PRODID:-//wp-events-plugin.com//7.2.3.1//EN
TZID:Europe/Berlin
X-WR-TIMEZONE:Europe/Berlin
BEGIN:VEVENT
UID:482@adventgemeinde-einoed.de
DTSTART;TZID=Europe/Berlin:20220625T160000
DTEND;TZID=Europe/Berlin:20220625T180000
DTSTAMP:20220624T160050Z
URL:https://www.adventgemeinde-einoed.de/events/nachmittags-jugendgottesdi
 enst-4me/
SUMMARY:Nachmittags-Jugendgottesdienst 4me
DESCRIPTION:Wann: nächsten Samstag den 25.06.2022 um 16:00 Uhr in Einöd\n
 Sprecher: Juliane Schmidt\nThema: Warum Jesus an Dich glaubt\nFragen\, ant
 worten\, singen und beten... DU bist herzlich eingeladen\n
CATEGORIES:Jugendveranstaltungen
LOCATION:Adventgemeinde Einöd\, Brühlstr. 6\, Homburg-Einöd\, Saarland\,
  66424\, Deutschland
GEO:49.26219;7.33131000000003
X-APPLE-STRUCTURED-LOCATION;VALUE=URI;X-ADDRESS=Brühlstr. 6\, Homburg-Ein
 öd\, Saarland\, 66424\, Deutschland;X-APPLE-RADIUS=100;X-TITLE=Adventgeme
 inde Einöd:geo:49.26219,7.33131000000003
END:VEVENT
BEGIN:VTIMEZONE
TZID:Europe/Berlin
X-LIC-LOCATION:Europe/Berlin
BEGIN:DAYLIGHT
DTSTART:20220327T030000
TZOFFSETFROM:+0100
TZOFFSETTO:+0200
TZNAME:CEST
END:DAYLIGHT
END:VTIMEZONE
END:VCALENDAR