BEGIN:VCALENDAR
VERSION:2.0
PRODID:-//wp-events-plugin.com//7.2.3.1//EN
TZID:Europe/Berlin
X-WR-TIMEZONE:Europe/Berlin
BEGIN:VEVENT
UID:219@adventgemeinde-einoed.de
DTSTART;TZID=Europe/Berlin:20180902T110000
DTEND;TZID=Europe/Berlin:20180902T170000
DTSTAMP:20180806T172003Z
URL:https://www.adventgemeinde-einoed.de/events/tag-der-offenen-tuer-02-09
 -2018/
SUMMARY:Tag der offenen Tür 02.09.2018
DESCRIPTION:Am 02.09.2018 lädt die Adventgemeinde Einöd von 11-17 Uhr zu 
 einem Tag der offenen Tür in ihre Räume in der Brühlstr. 6 in Homburg-E
 inöd ein.\nDie Pfadfinder der Adventjugend zeigen ihre Unternehmungen und
  sorgen am Schwenker für das leibliche Wohl. Während die Kinder beim Bas
 teln\, Puppentheater und Kinderschminken beschäftigt sind\, können die E
 rwachsenen die verschiedenen Aktivitäten der Adventgemeinde kennen lernen
 . Der Eintritt ist frei.
LOCATION:Adventgemeinde Einöd\, Brühlstr. 6\, Homburg-Einöd\, Saarland\,
  66424\, Deutschland
GEO:49.26219;7.33131000000003
X-APPLE-STRUCTURED-LOCATION;VALUE=URI;X-ADDRESS=Brühlstr. 6\, Homburg-Ein
 öd\, Saarland\, 66424\, Deutschland;X-APPLE-RADIUS=100;X-TITLE=Adventgeme
 inde Einöd:geo:49.26219,7.33131000000003
END:VEVENT
BEGIN:VTIMEZONE
TZID:Europe/Berlin
X-LIC-LOCATION:Europe/Berlin
BEGIN:DAYLIGHT
DTSTART:20180325T030000
TZOFFSETFROM:+0100
TZOFFSETTO:+0200
TZNAME:CEST
END:DAYLIGHT
END:VTIMEZONE
END:VCALENDAR